BEGIN:VCALENDAR
VERSION:2.0
PRODID:-//Interreg VI A MV/BB/PL - ECPv6.15.18//NONSGML v1.0//EN
CALSCALE:GREGORIAN
METHOD:PUBLISH
X-WR-CALNAME:Interreg VI A MV/BB/PL
X-ORIGINAL-URL:https://test.interreg6a.net/pl/
X-WR-CALDESC:Wydarzenia dla Interreg VI A MV/BB/PL
REFRESH-INTERVAL;VALUE=DURATION:PT1H
X-Robots-Tag:noindex
X-PUBLISHED-TTL:PT1H
BEGIN:VTIMEZONE
TZID:Europe/Berlin
BEGIN:DAYLIGHT
TZOFFSETFROM:+0100
TZOFFSETTO:+0200
TZNAME:CEST
DTSTART:20250330T010000
END:DAYLIGHT
BEGIN:STANDARD
TZOFFSETFROM:+0200
TZOFFSETTO:+0100
TZNAME:CET
DTSTART:20251026T010000
END:STANDARD
BEGIN:DAYLIGHT
TZOFFSETFROM:+0100
TZOFFSETTO:+0200
TZNAME:CEST
DTSTART:20260329T010000
END:DAYLIGHT
BEGIN:STANDARD
TZOFFSETFROM:+0200
TZOFFSETTO:+0100
TZNAME:CET
DTSTART:20261025T010000
END:STANDARD
BEGIN:DAYLIGHT
TZOFFSETFROM:+0100
TZOFFSETTO:+0200
TZNAME:CEST
DTSTART:20270328T010000
END:DAYLIGHT
BEGIN:STANDARD
TZOFFSETFROM:+0200
TZOFFSETTO:+0100
TZNAME:CET
DTSTART:20271031T010000
END:STANDARD
BEGIN:DAYLIGHT
TZOFFSETFROM:+0100
TZOFFSETTO:+0200
TZNAME:CEST
DTSTART:20280326T010000
END:DAYLIGHT
BEGIN:STANDARD
TZOFFSETFROM:+0200
TZOFFSETTO:+0100
TZNAME:CET
DTSTART:20281029T010000
END:STANDARD
BEGIN:DAYLIGHT
TZOFFSETFROM:+0100
TZOFFSETTO:+0200
TZNAME:CEST
DTSTART:20290325T010000
END:DAYLIGHT
BEGIN:STANDARD
TZOFFSETFROM:+0200
TZOFFSETTO:+0100
TZNAME:CET
DTSTART:20291028T010000
END:STANDARD
BEGIN:DAYLIGHT
TZOFFSETFROM:+0100
TZOFFSETTO:+0200
TZNAME:CEST
DTSTART:20300331T010000
END:DAYLIGHT
BEGIN:STANDARD
TZOFFSETFROM:+0200
TZOFFSETTO:+0100
TZNAME:CET
DTSTART:20301027T010000
END:STANDARD
END:VTIMEZONE
BEGIN:VEVENT
DTSTART;VALUE=DATE:20260501
DTEND;VALUE=DATE:20260502
DTSTAMP:20260423T211811
CREATED:20250213T130847Z
LAST-MODIFIED:20250213T130847Z
UID:10000979-1777593600-1777679999@test.interreg6a.net
SUMMARY:Święto Pracy - Wspólny Sekretariat jest zamknięty!
DESCRIPTION:
URL:https://test.interreg6a.net/pl/veranstaltungen2/swieto-pracy-wspolny-sekretariat-jest-zamkniety-2/2026-05-01/
LOCATION:GS Löcknitz\, E.-Thälmann-Str. 4\, Löcknitz\, 17321\, Deutschland
CATEGORIES:Święto DE/PL
ORGANIZER;CN="Wsp%C3%B3lny Sekretariat":MAILTO:info@interreg6a.net
END:VEVENT
BEGIN:VEVENT
DTSTART;VALUE=DATE:20260509
DTEND;VALUE=DATE:20260510
DTSTAMP:20260423T211811
CREATED:20240318T143017Z
LAST-MODIFIED:20240318T143607Z
UID:10000499-1778284800-1778371199@test.interreg6a.net
SUMMARY:Dzień Europy
DESCRIPTION:
URL:https://test.interreg6a.net/pl/veranstaltungen2/dzien-europy/2026-05-09/
CATEGORIES:Unia Europejska
END:VEVENT
BEGIN:VEVENT
DTSTART;VALUE=DATE:20260921
DTEND;VALUE=DATE:20260922
DTSTAMP:20260423T211811
CREATED:20250523T095923Z
LAST-MODIFIED:20250523T095923Z
UID:10001012-1789948800-1790035199@test.interreg6a.net
SUMMARY:Interreg Cooperation Day
DESCRIPTION:
URL:https://test.interreg6a.net/pl/veranstaltungen2/interreg-cooperation-day/2026-09-21/
CATEGORIES:Unia Europejska
END:VEVENT
BEGIN:VEVENT
DTSTART;VALUE=DATE:20261003
DTEND;VALUE=DATE:20261004
DTSTAMP:20260423T211811
CREATED:20240822T133350Z
LAST-MODIFIED:20250103T104033Z
UID:10000953-1790985600-1791071999@test.interreg6a.net
SUMMARY:Dzień Zjednoczenia Niemiec – Wspólny Sekretariat jest zamknięty!
DESCRIPTION:
URL:https://test.interreg6a.net/pl/veranstaltungen2/dzien-zjednoczenia-niemiec-wspolny-sekretariat-jest-zamkniety/2026-10-03/
LOCATION:GS Löcknitz\, E.-Thälmann-Str. 4\, Löcknitz\, 17321\, Deutschland
CATEGORIES:Święto DE
ORGANIZER;CN="Wsp%C3%B3lny Sekretariat":MAILTO:info@interreg6a.net
END:VEVENT
BEGIN:VEVENT
DTSTART;VALUE=DATE:20261031
DTEND;VALUE=DATE:20261101
DTSTAMP:20260423T211811
CREATED:20240822T133505Z
LAST-MODIFIED:20250103T103920Z
UID:10000948-1793404800-1793491199@test.interreg6a.net
SUMMARY:Dzień Reformacji – Wspólny Sekretariat jest zamknięty!
DESCRIPTION:
URL:https://test.interreg6a.net/pl/veranstaltungen2/dzien-reformacji-wspolny-sekretariat-jest-zamkniety/2026-10-31/
LOCATION:GS Löcknitz\, E.-Thälmann-Str. 4\, Löcknitz\, 17321\, Deutschland
CATEGORIES:Święto DE
ORGANIZER;CN="Wsp%C3%B3lny Sekretariat":MAILTO:info@interreg6a.net
END:VEVENT
BEGIN:VEVENT
DTSTART;VALUE=DATE:20261225
DTEND;VALUE=DATE:20261227
DTSTAMP:20260423T211811
CREATED:20241113T141743Z
LAST-MODIFIED:20250103T104125Z
UID:10000958-1798156800-1798329599@test.interreg6a.net
SUMMARY:Święta Bożego Narodzenia
DESCRIPTION:
URL:https://test.interreg6a.net/pl/veranstaltungen2/swieta-bozego-narodzenia/2026-12-25/
LOCATION:GS Löcknitz\, E.-Thälmann-Str. 4\, Löcknitz\, 17321\, Deutschland
CATEGORIES:Święto DE/PL
ORGANIZER;CN="Wsp%C3%B3lny Sekretariat":MAILTO:info@interreg6a.net
END:VEVENT
BEGIN:VEVENT
DTSTART;VALUE=DATE:20270501
DTEND;VALUE=DATE:20270502
DTSTAMP:20260423T211811
CREATED:20250213T130847Z
LAST-MODIFIED:20250213T130847Z
UID:10000980-1809129600-1809215999@test.interreg6a.net
SUMMARY:Święto Pracy - Wspólny Sekretariat jest zamknięty!
DESCRIPTION:
URL:https://test.interreg6a.net/pl/veranstaltungen2/swieto-pracy-wspolny-sekretariat-jest-zamkniety-2/2027-05-01/
LOCATION:GS Löcknitz\, E.-Thälmann-Str. 4\, Löcknitz\, 17321\, Deutschland
CATEGORIES:Święto DE/PL
ORGANIZER;CN="Wsp%C3%B3lny Sekretariat":MAILTO:info@interreg6a.net
END:VEVENT
BEGIN:VEVENT
DTSTART;VALUE=DATE:20270509
DTEND;VALUE=DATE:20270510
DTSTAMP:20260423T211811
CREATED:20240318T143017Z
LAST-MODIFIED:20240318T143607Z
UID:10000500-1809820800-1809907199@test.interreg6a.net
SUMMARY:Dzień Europy
DESCRIPTION:
URL:https://test.interreg6a.net/pl/veranstaltungen2/dzien-europy/2027-05-09/
CATEGORIES:Unia Europejska
END:VEVENT
BEGIN:VEVENT
DTSTART;VALUE=DATE:20270921
DTEND;VALUE=DATE:20270922
DTSTAMP:20260423T211811
CREATED:20250523T095923Z
LAST-MODIFIED:20250523T095923Z
UID:10001013-1821484800-1821571199@test.interreg6a.net
SUMMARY:Interreg Cooperation Day
DESCRIPTION:
URL:https://test.interreg6a.net/pl/veranstaltungen2/interreg-cooperation-day/2027-09-21/
CATEGORIES:Unia Europejska
END:VEVENT
BEGIN:VEVENT
DTSTART;VALUE=DATE:20271003
DTEND;VALUE=DATE:20271004
DTSTAMP:20260423T211811
CREATED:20240822T133350Z
LAST-MODIFIED:20250103T104033Z
UID:10000954-1822521600-1822607999@test.interreg6a.net
SUMMARY:Dzień Zjednoczenia Niemiec – Wspólny Sekretariat jest zamknięty!
DESCRIPTION:
URL:https://test.interreg6a.net/pl/veranstaltungen2/dzien-zjednoczenia-niemiec-wspolny-sekretariat-jest-zamkniety/2027-10-03/
LOCATION:GS Löcknitz\, E.-Thälmann-Str. 4\, Löcknitz\, 17321\, Deutschland
CATEGORIES:Święto DE
ORGANIZER;CN="Wsp%C3%B3lny Sekretariat":MAILTO:info@interreg6a.net
END:VEVENT
BEGIN:VEVENT
DTSTART;VALUE=DATE:20271031
DTEND;VALUE=DATE:20271101
DTSTAMP:20260423T211811
CREATED:20240822T133505Z
LAST-MODIFIED:20250103T103920Z
UID:10000949-1824940800-1825023599@test.interreg6a.net
SUMMARY:Dzień Reformacji – Wspólny Sekretariat jest zamknięty!
DESCRIPTION:
URL:https://test.interreg6a.net/pl/veranstaltungen2/dzien-reformacji-wspolny-sekretariat-jest-zamkniety/2027-10-31/
LOCATION:GS Löcknitz\, E.-Thälmann-Str. 4\, Löcknitz\, 17321\, Deutschland
CATEGORIES:Święto DE
ORGANIZER;CN="Wsp%C3%B3lny Sekretariat":MAILTO:info@interreg6a.net
END:VEVENT
BEGIN:VEVENT
DTSTART;VALUE=DATE:20271225
DTEND;VALUE=DATE:20271227
DTSTAMP:20260423T211811
CREATED:20241113T141743Z
LAST-MODIFIED:20250103T104125Z
UID:10000959-1829692800-1829865599@test.interreg6a.net
SUMMARY:Święta Bożego Narodzenia
DESCRIPTION:
URL:https://test.interreg6a.net/pl/veranstaltungen2/swieta-bozego-narodzenia/2027-12-25/
LOCATION:GS Löcknitz\, E.-Thälmann-Str. 4\, Löcknitz\, 17321\, Deutschland
CATEGORIES:Święto DE/PL
ORGANIZER;CN="Wsp%C3%B3lny Sekretariat":MAILTO:info@interreg6a.net
END:VEVENT
BEGIN:VEVENT
DTSTART;VALUE=DATE:20280501
DTEND;VALUE=DATE:20280502
DTSTAMP:20260423T211811
CREATED:20250213T130847Z
LAST-MODIFIED:20250213T130847Z
UID:10000981-1840752000-1840838399@test.interreg6a.net
SUMMARY:Święto Pracy - Wspólny Sekretariat jest zamknięty!
DESCRIPTION:
URL:https://test.interreg6a.net/pl/veranstaltungen2/swieto-pracy-wspolny-sekretariat-jest-zamkniety-2/2028-05-01/
LOCATION:GS Löcknitz\, E.-Thälmann-Str. 4\, Löcknitz\, 17321\, Deutschland
CATEGORIES:Święto DE/PL
ORGANIZER;CN="Wsp%C3%B3lny Sekretariat":MAILTO:info@interreg6a.net
END:VEVENT
BEGIN:VEVENT
DTSTART;VALUE=DATE:20280509
DTEND;VALUE=DATE:20280510
DTSTAMP:20260423T211811
CREATED:20240318T143017Z
LAST-MODIFIED:20240318T143607Z
UID:10000501-1841443200-1841529599@test.interreg6a.net
SUMMARY:Dzień Europy
DESCRIPTION:
URL:https://test.interreg6a.net/pl/veranstaltungen2/dzien-europy/2028-05-09/
CATEGORIES:Unia Europejska
END:VEVENT
BEGIN:VEVENT
DTSTART;VALUE=DATE:20280921
DTEND;VALUE=DATE:20280922
DTSTAMP:20260423T211811
CREATED:20250523T095923Z
LAST-MODIFIED:20250523T095923Z
UID:10001014-1853107200-1853193599@test.interreg6a.net
SUMMARY:Interreg Cooperation Day
DESCRIPTION:
URL:https://test.interreg6a.net/pl/veranstaltungen2/interreg-cooperation-day/2028-09-21/
CATEGORIES:Unia Europejska
END:VEVENT
BEGIN:VEVENT
DTSTART;VALUE=DATE:20281003
DTEND;VALUE=DATE:20281004
DTSTAMP:20260423T211811
CREATED:20240822T133350Z
LAST-MODIFIED:20250103T104033Z
UID:10000955-1854144000-1854230399@test.interreg6a.net
SUMMARY:Dzień Zjednoczenia Niemiec – Wspólny Sekretariat jest zamknięty!
DESCRIPTION:
URL:https://test.interreg6a.net/pl/veranstaltungen2/dzien-zjednoczenia-niemiec-wspolny-sekretariat-jest-zamkniety/2028-10-03/
LOCATION:GS Löcknitz\, E.-Thälmann-Str. 4\, Löcknitz\, 17321\, Deutschland
CATEGORIES:Święto DE
ORGANIZER;CN="Wsp%C3%B3lny Sekretariat":MAILTO:info@interreg6a.net
END:VEVENT
BEGIN:VEVENT
DTSTART;VALUE=DATE:20281031
DTEND;VALUE=DATE:20281101
DTSTAMP:20260423T211811
CREATED:20240822T133505Z
LAST-MODIFIED:20250103T103920Z
UID:10000950-1856563200-1856649599@test.interreg6a.net
SUMMARY:Dzień Reformacji – Wspólny Sekretariat jest zamknięty!
DESCRIPTION:
URL:https://test.interreg6a.net/pl/veranstaltungen2/dzien-reformacji-wspolny-sekretariat-jest-zamkniety/2028-10-31/
LOCATION:GS Löcknitz\, E.-Thälmann-Str. 4\, Löcknitz\, 17321\, Deutschland
CATEGORIES:Święto DE
ORGANIZER;CN="Wsp%C3%B3lny Sekretariat":MAILTO:info@interreg6a.net
END:VEVENT
BEGIN:VEVENT
DTSTART;VALUE=DATE:20281225
DTEND;VALUE=DATE:20281227
DTSTAMP:20260423T211811
CREATED:20241113T141743Z
LAST-MODIFIED:20250103T104125Z
UID:10000960-1861315200-1861487999@test.interreg6a.net
SUMMARY:Święta Bożego Narodzenia
DESCRIPTION:
URL:https://test.interreg6a.net/pl/veranstaltungen2/swieta-bozego-narodzenia/2028-12-25/
LOCATION:GS Löcknitz\, E.-Thälmann-Str. 4\, Löcknitz\, 17321\, Deutschland
CATEGORIES:Święto DE/PL
ORGANIZER;CN="Wsp%C3%B3lny Sekretariat":MAILTO:info@interreg6a.net
END:VEVENT
BEGIN:VEVENT
DTSTART;VALUE=DATE:20290501
DTEND;VALUE=DATE:20290502
DTSTAMP:20260423T211811
CREATED:20250213T130847Z
LAST-MODIFIED:20250213T130847Z
UID:10000982-1872288000-1872374399@test.interreg6a.net
SUMMARY:Święto Pracy - Wspólny Sekretariat jest zamknięty!
DESCRIPTION:
URL:https://test.interreg6a.net/pl/veranstaltungen2/swieto-pracy-wspolny-sekretariat-jest-zamkniety-2/2029-05-01/
LOCATION:GS Löcknitz\, E.-Thälmann-Str. 4\, Löcknitz\, 17321\, Deutschland
CATEGORIES:Święto DE/PL
ORGANIZER;CN="Wsp%C3%B3lny Sekretariat":MAILTO:info@interreg6a.net
END:VEVENT
BEGIN:VEVENT
DTSTART;VALUE=DATE:20290921
DTEND;VALUE=DATE:20290922
DTSTAMP:20260423T211811
CREATED:20250523T095923Z
LAST-MODIFIED:20250523T095923Z
UID:10001015-1884643200-1884729599@test.interreg6a.net
SUMMARY:Interreg Cooperation Day
DESCRIPTION:
URL:https://test.interreg6a.net/pl/veranstaltungen2/interreg-cooperation-day/2029-09-21/
CATEGORIES:Unia Europejska
END:VEVENT
BEGIN:VEVENT
DTSTART;VALUE=DATE:20291003
DTEND;VALUE=DATE:20291004
DTSTAMP:20260423T211811
CREATED:20240822T133350Z
LAST-MODIFIED:20250103T104033Z
UID:10000956-1885680000-1885766399@test.interreg6a.net
SUMMARY:Dzień Zjednoczenia Niemiec – Wspólny Sekretariat jest zamknięty!
DESCRIPTION:
URL:https://test.interreg6a.net/pl/veranstaltungen2/dzien-zjednoczenia-niemiec-wspolny-sekretariat-jest-zamkniety/2029-10-03/
LOCATION:GS Löcknitz\, E.-Thälmann-Str. 4\, Löcknitz\, 17321\, Deutschland
CATEGORIES:Święto DE
ORGANIZER;CN="Wsp%C3%B3lny Sekretariat":MAILTO:info@interreg6a.net
END:VEVENT
BEGIN:VEVENT
DTSTART;VALUE=DATE:20291031
DTEND;VALUE=DATE:20291101
DTSTAMP:20260423T211811
CREATED:20240822T133505Z
LAST-MODIFIED:20250103T103920Z
UID:10000951-1888099200-1888185599@test.interreg6a.net
SUMMARY:Dzień Reformacji – Wspólny Sekretariat jest zamknięty!
DESCRIPTION:
URL:https://test.interreg6a.net/pl/veranstaltungen2/dzien-reformacji-wspolny-sekretariat-jest-zamkniety/2029-10-31/
LOCATION:GS Löcknitz\, E.-Thälmann-Str. 4\, Löcknitz\, 17321\, Deutschland
CATEGORIES:Święto DE
ORGANIZER;CN="Wsp%C3%B3lny Sekretariat":MAILTO:info@interreg6a.net
END:VEVENT
BEGIN:VEVENT
DTSTART;VALUE=DATE:20291225
DTEND;VALUE=DATE:20291227
DTSTAMP:20260423T211811
CREATED:20241113T141743Z
LAST-MODIFIED:20250103T104125Z
UID:10000961-1892851200-1893023999@test.interreg6a.net
SUMMARY:Święta Bożego Narodzenia
DESCRIPTION:
URL:https://test.interreg6a.net/pl/veranstaltungen2/swieta-bozego-narodzenia/2029-12-25/
LOCATION:GS Löcknitz\, E.-Thälmann-Str. 4\, Löcknitz\, 17321\, Deutschland
CATEGORIES:Święto DE/PL
ORGANIZER;CN="Wsp%C3%B3lny Sekretariat":MAILTO:info@interreg6a.net
END:VEVENT
END:VCALENDAR