BEGIN:VCALENDAR
VERSION:2.0
PRODID:-//Interreg VI A MV/BB/PL - ECPv6.15.18//NONSGML v1.0//EN
CALSCALE:GREGORIAN
METHOD:PUBLISH
X-ORIGINAL-URL:https://test.interreg6a.net/pl/
X-WR-CALDESC:Wydarzenia dla Interreg VI A MV/BB/PL
REFRESH-INTERVAL;VALUE=DURATION:PT1H
X-Robots-Tag:noindex
X-PUBLISHED-TTL:PT1H
BEGIN:VTIMEZONE
TZID:Europe/Berlin
BEGIN:DAYLIGHT
TZOFFSETFROM:+0100
TZOFFSETTO:+0200
TZNAME:CEST
DTSTART:20240331T010000
END:DAYLIGHT
BEGIN:STANDARD
TZOFFSETFROM:+0200
TZOFFSETTO:+0100
TZNAME:CET
DTSTART:20241027T010000
END:STANDARD
BEGIN:DAYLIGHT
TZOFFSETFROM:+0100
TZOFFSETTO:+0200
TZNAME:CEST
DTSTART:20250330T010000
END:DAYLIGHT
BEGIN:STANDARD
TZOFFSETFROM:+0200
TZOFFSETTO:+0100
TZNAME:CET
DTSTART:20251026T010000
END:STANDARD
BEGIN:DAYLIGHT
TZOFFSETFROM:+0100
TZOFFSETTO:+0200
TZNAME:CEST
DTSTART:20260329T010000
END:DAYLIGHT
BEGIN:STANDARD
TZOFFSETFROM:+0200
TZOFFSETTO:+0100
TZNAME:CET
DTSTART:20261025T010000
END:STANDARD
END:VTIMEZONE
BEGIN:VEVENT
DTSTART;VALUE=DATE:20250903
DTEND;VALUE=DATE:20250904
DTSTAMP:20260420T042101
CREATED:20250827T131153Z
LAST-MODIFIED:20250827T131153Z
UID:10001044-1756857600-1756943999@test.interreg6a.net
SUMMARY:Spotkanie 3 Wspólnych Sekretariatów - jesteśmy dla Państwa dostępni online!
DESCRIPTION:
URL:https://test.interreg6a.net/pl/veranstaltungen2/spotkanie-3-wspolnych-sekretariatow-jestesmy-dla-panstwa-dostepni-online-3/
CATEGORIES:Program Współpracy,Szczególne terminy
ORGANIZER;CN="Wsp%C3%B3lny Sekretariat":MAILTO:info@interreg6a.net
END:VEVENT
END:VCALENDAR